BEGIN:VCALENDAR
VERSION:2.0
PRODID:-//leadershipspokane.org//NONSGML kigkonsult.se iCalcreator 2.30.10/
 /
CALSCALE:GREGORIAN
METHOD:PUBLISH
UID:56ca9e1f-6df6-4dfb-b4d3-82c86cb8403a
X-WR-CALDESC:An opportunity for the Class of 2026 to debrief from the class
  day and provide networking between the current class and alumni.
X-WR-RELCALID:b6d0d025e90a5e83ddc1b0609c40a88c
X-WR-TIMEZONE:America/Los_Angeles
BEGIN:VTIMEZONE
TZID:America/Los_Angeles
BEGIN:STANDARD
TZNAME:PST
DTSTART:20251102T020000
TZOFFSETFROM:-0700
TZOFFSETTO:-0800
RDATE:20261101T020000
END:STANDARD
BEGIN:DAYLIGHT
TZNAME:PDT
DTSTART:20250309T020000
TZOFFSETFROM:-0800
TZOFFSETTO:-0700
RDATE:20260308T020000
RDATE:20270314T020000
END:DAYLIGHT
END:VTIMEZONE
BEGIN:VEVENT
UID:aa96edc4-c6ae-4868-aab3-c21a405be790
DTSTAMP:20260423T152736Z
DESCRIPTION:An opportunity for the Class of 2026 to debrief from the class 
 day and provide networking between the current class and alumni.
DTSTART;TZID=America/Los_Angeles:20260205T163000
DTEND;TZID=America/Los_Angeles:20260205T183000
LOCATION:
SUMMARY:Alumni with Class
END:VEVENT
END:VCALENDAR
