BEGIN:VCALENDAR
VERSION:2.0
PRODID:-//leadershipspokane.org//NONSGML kigkonsult.se iCalcreator 2.30.10/
 /
CALSCALE:GREGORIAN
METHOD:PUBLISH
UID:0bd37d3d-46f2-4791-9b8f-3203e467ba4a
X-WR-CALDESC:
X-WR-RELCALID:3bd5ea46f4fb21f825901ac6720b3914
X-WR-TIMEZONE:America/Los_Angeles
BEGIN:VTIMEZONE
TZID:America/Los_Angeles
BEGIN:STANDARD
TZNAME:PST
DTSTART:20251102T020000
TZOFFSETFROM:-0700
TZOFFSETTO:-0800
RDATE:20261101T020000
END:STANDARD
BEGIN:DAYLIGHT
TZNAME:PDT
DTSTART:20250309T020000
TZOFFSETFROM:-0800
TZOFFSETTO:-0700
RDATE:20260308T020000
RDATE:20270314T020000
END:DAYLIGHT
END:VTIMEZONE
BEGIN:VEVENT
UID:037feea1-d735-418c-b292-3a9df73c3ddb
DTSTAMP:20260423T202725Z
DESCRIPTION:
DTSTART;TZID=America/Los_Angeles:20251113T173000
DTEND;TZID=America/Los_Angeles:20251113T213000
LOCATION:Dry Fly - Mezzanine\, 1021 W Riverside Ave\, Spokane\, WA 99201 US
SUMMARY:Party With Purpose
END:VEVENT
END:VCALENDAR
