BEGIN:VCALENDAR
VERSION:2.0
PRODID:-//leadershipspokane.org//NONSGML kigkonsult.se iCalcreator 2.30.10/
 /
CALSCALE:GREGORIAN
METHOD:PUBLISH
UID:3f3db245-47b1-49c1-a9ee-b6ee9a641450
X-WR-CALDESC:An opportunity for the Class of 2026 to debrief from the class
  day and provide networking between the current class and alumni.
X-WR-RELCALID:99d3d243a392a53611bd9882b578d484
X-WR-TIMEZONE:America/Los_Angeles
BEGIN:VTIMEZONE
TZID:America/Los_Angeles
BEGIN:STANDARD
TZNAME:PST
DTSTART:20251102T020000
TZOFFSETFROM:-0700
TZOFFSETTO:-0800
RDATE:20261101T020000
END:STANDARD
BEGIN:DAYLIGHT
TZNAME:PDT
DTSTART:20250309T020000
TZOFFSETFROM:-0800
TZOFFSETTO:-0700
RDATE:20260308T020000
RDATE:20270314T020000
END:DAYLIGHT
END:VTIMEZONE
BEGIN:VEVENT
UID:fe8d9639-cd1d-4a52-91b2-92854552ac05
DTSTAMP:20260423T202909Z
DESCRIPTION:An opportunity for the Class of 2026 to debrief from the class 
 day and provide networking between the current class and alumni.
DTSTART;TZID=America/Los_Angeles:20251106T163000
DTEND;TZID=America/Los_Angeles:20251106T183000
LOCATION:No-Li Brewhouse\, 1003 E Trent Ave #170\, Spokane\, WA 99202 US
SUMMARY:Alumni with Class
END:VEVENT
END:VCALENDAR
