BEGIN:VCALENDAR
VERSION:2.0
PRODID:-//leadershipspokane.org//NONSGML kigkonsult.se iCalcreator 2.30.10/
 /
CALSCALE:GREGORIAN
METHOD:PUBLISH
UID:a735119c-f3e2-4a9c-9b1e-83a09243f27e
X-WR-CALDESC:Hey Alumni! Add this event to your calendars! We will send out
  a sign-up link with the locations soon. Can't stay the whole time? Thats 
 okay! You will be able to share your availability on the sign-up page.
X-WR-RELCALID:d92e26ed97fe080dda8195277f74ec84
X-WR-TIMEZONE:America/Los_Angeles
BEGIN:VTIMEZONE
TZID:America/Los_Angeles
BEGIN:STANDARD
TZNAME:PST
DTSTART:20241103T020000
TZOFFSETFROM:-0700
TZOFFSETTO:-0800
RDATE:20251102T020000
RDATE:20261101T020000
END:STANDARD
BEGIN:DAYLIGHT
TZNAME:PDT
DTSTART:20250309T020000
TZOFFSETFROM:-0800
TZOFFSETTO:-0700
RDATE:20260308T020000
RDATE:20270314T020000
END:DAYLIGHT
END:VTIMEZONE
BEGIN:VEVENT
UID:bd2cf713-ffaa-4fb3-b530-6ec128c01451
DTSTAMP:20260423T220118Z
DESCRIPTION:Hey Alumni! Add this event to your calendars! We will send out 
 a sign-up link with the locations soon. Can't stay the whole time? Thats o
 kay! You will be able to share your availability on the sign-up page.
DTSTART;TZID=America/Los_Angeles:20251002T080000
DTEND;TZID=America/Los_Angeles:20251002T120000
LOCATION:
SUMMARY:Save the Date - Regional Economy Day Alumni Volunteers
END:VEVENT
END:VCALENDAR
