BEGIN:VCALENDAR
VERSION:2.0
PRODID:-//leadershipspokane.org//NONSGML kigkonsult.se iCalcreator 2.30.10/
 /
CALSCALE:GREGORIAN
METHOD:PUBLISH
UID:6a78797f-7667-475d-982c-821cf8fee2c7
X-WR-CALDESC:An opportunity for the Class of 2026 to debrief from the class
  day and provide networking between the current class and alumni.
X-WR-RELCALID:9da4e44a8c9886d08ffbc55487fb2abb
X-WR-TIMEZONE:America/Los_Angeles
BEGIN:VTIMEZONE
TZID:America/Los_Angeles
BEGIN:STANDARD
TZNAME:PST
DTSTART:20241103T020000
TZOFFSETFROM:-0700
TZOFFSETTO:-0800
RDATE:20251102T020000
RDATE:20261101T020000
END:STANDARD
BEGIN:DAYLIGHT
TZNAME:PDT
DTSTART:20250309T020000
TZOFFSETFROM:-0800
TZOFFSETTO:-0700
RDATE:20260308T020000
RDATE:20270314T020000
END:DAYLIGHT
END:VTIMEZONE
BEGIN:VEVENT
UID:a4aea092-91ae-416a-af05-a89cc577df1b
DTSTAMP:20260423T220416Z
DESCRIPTION:An opportunity for the Class of 2026 to debrief from the class 
 day and provide networking between the current class and alumni.
DTSTART;TZID=America/Los_Angeles:20251002T163000
DTEND;TZID=America/Los_Angeles:20251002T183000
LOCATION:McCraken's Irish Pub\, 11723 E Sprague Ave\, Spokane\, WA 99206 US
SUMMARY:Alumni with Class
END:VEVENT
END:VCALENDAR
