BEGIN:VCALENDAR
VERSION:2.0
PRODID:-//leadershipspokane.org//NONSGML kigkonsult.se iCalcreator 2.30.10/
 /
CALSCALE:GREGORIAN
METHOD:PUBLISH
UID:01b9199c-8b82-40da-87c2-09ab7a0bfd6e
X-WR-CALDESC:Join us for the Leadership Spokane All Class Reunion on 30 Jul
 y 2025\, 4:30 pm at Brick West Brewing! \n\nIn honor of Leadership Spokane
  being in operation for 43 years\, the first 43 alumni wearing their namet
 ag will receive a swag bag.\n\nBonus! Bring your business card to our All 
 Class Reunion to be entered into a drawing for two tickets to our gala.\n
X-WR-RELCALID:d10af08fd86388093b9a60aaf66f9b26
X-WR-TIMEZONE:America/Los_Angeles
BEGIN:VTIMEZONE
TZID:America/Los_Angeles
BEGIN:STANDARD
TZNAME:PST
DTSTART:20241103T020000
TZOFFSETFROM:-0700
TZOFFSETTO:-0800
RDATE:20251102T020000
RDATE:20261101T020000
END:STANDARD
BEGIN:DAYLIGHT
TZNAME:PDT
DTSTART:20250309T020000
TZOFFSETFROM:-0800
TZOFFSETTO:-0700
RDATE:20260308T020000
END:DAYLIGHT
END:VTIMEZONE
BEGIN:VEVENT
UID:298a3f7c-fe99-45c0-bf15-166bf988a79e
DTSTAMP:20260424T024201Z
DESCRIPTION:Join us for the Leadership Spokane All Class Reunion on 30 July
  2025\, 4:30 pm at Brick West Brewing! \n\nIn honor of Leadership Spokane 
 being in operation for 43 years\, the first 43 alumni wearing their nameta
 g will receive a swag bag.\n\nBonus! Bring your business card to our All C
 lass Reunion to be entered into a drawing for two tickets to our gala.\n
DTSTART;TZID=America/Los_Angeles:20250730T163000
DTEND;TZID=America/Los_Angeles:20250730T183000
LOCATION:Brickwest Brewing Co\, 1318 W 1st Ave\, Spokane\, WA 99201 US
SUMMARY:All Class Reunion
END:VEVENT
END:VCALENDAR
