BEGIN:VCALENDAR
VERSION:2.0
PRODID:-//leadershipspokane.org//NONSGML kigkonsult.se iCalcreator 2.30.10/
 /
CALSCALE:GREGORIAN
METHOD:PUBLISH
UID:599fa78c-6000-4425-9022-11b1d6291089
X-WR-CALDESC:Commencement Celebrating Flagship and YLS Class of 2026
X-WR-RELCALID:c0c1951be72c43baf8c315d504931e70
X-WR-TIMEZONE:America/Los_Angeles
BEGIN:VTIMEZONE
TZID:America/Los_Angeles
BEGIN:STANDARD
TZNAME:PST
DTSTART:20251102T020000
TZOFFSETFROM:-0700
TZOFFSETTO:-0800
RDATE:20261101T020000
RDATE:20271107T020000
END:STANDARD
BEGIN:DAYLIGHT
TZNAME:PDT
DTSTART:20260308T020000
TZOFFSETFROM:-0800
TZOFFSETTO:-0700
RDATE:20270314T020000
END:DAYLIGHT
END:VTIMEZONE
BEGIN:VEVENT
UID:dcf3d3a3-1176-492f-9664-3ebd21caa597
DTSTAMP:20260423T152559Z
DESCRIPTION:Commencement Celebrating Flagship and YLS Class of 2026
DTSTART;TZID=America/Los_Angeles:20260611T170000
DTEND;TZID=America/Los_Angeles:20260611T193000
LOCATION:
SUMMARY:Flagship and YLS Commencement (Copy)
END:VEVENT
END:VCALENDAR
