BEGIN:VCALENDAR
VERSION:2.0
PRODID:-//leadershipspokane.org//NONSGML kigkonsult.se iCalcreator 2.30.10/
 /
CALSCALE:GREGORIAN
METHOD:PUBLISH
UID:0b615b29-f6ac-4e46-b036-57825a07540e
X-WR-CALDESC:Flagship Class of 2026 Stepping Up Day
X-WR-RELCALID:81d88da99348d099e8dc6d561971da90
X-WR-TIMEZONE:America/Los_Angeles
BEGIN:VTIMEZONE
TZID:America/Los_Angeles
BEGIN:STANDARD
TZNAME:PST
DTSTART:20251102T020000
TZOFFSETFROM:-0700
TZOFFSETTO:-0800
RDATE:20261101T020000
RDATE:20271107T020000
END:STANDARD
BEGIN:DAYLIGHT
TZNAME:PDT
DTSTART:20260308T020000
TZOFFSETFROM:-0800
TZOFFSETTO:-0700
RDATE:20270314T020000
END:DAYLIGHT
END:VTIMEZONE
BEGIN:VEVENT
UID:b21b184a-4a12-4abc-9169-7dc3f6c6e079
DTSTAMP:20260423T152919Z
DESCRIPTION:Flagship Class of 2026 Stepping Up Day
DTSTART;TZID=America/Los_Angeles:20260604T073000
DTEND;TZID=America/Los_Angeles:20260604T163000
LOCATION:
SUMMARY:Flagship Stepping Up Day
END:VEVENT
END:VCALENDAR
