BEGIN:VCALENDAR
VERSION:2.0
PRODID:-//leadershipspokane.org//NONSGML kigkonsult.se iCalcreator 2.30.10/
 /
CALSCALE:GREGORIAN
METHOD:PUBLISH
UID:eddb9576-9ed2-418a-819e-8948c571a8d5
X-WR-CALDESC:An opportunity for the Class of 2026 to debrief from the class
  day and provide networking between the current class and alumni.
X-WR-RELCALID:ea3a6ae68a143f9efc473e06de819fa4
X-WR-TIMEZONE:America/Los_Angeles
BEGIN:VTIMEZONE
TZID:America/Los_Angeles
BEGIN:STANDARD
TZNAME:PST
DTSTART:20251102T020000
TZOFFSETFROM:-0700
TZOFFSETTO:-0800
RDATE:20261101T020000
RDATE:20271107T020000
END:STANDARD
BEGIN:DAYLIGHT
TZNAME:PDT
DTSTART:20260308T020000
TZOFFSETFROM:-0800
TZOFFSETTO:-0700
RDATE:20270314T020000
END:DAYLIGHT
END:VTIMEZONE
BEGIN:VEVENT
UID:c9ef93d1-fbb0-41b3-96ef-8f42c8abf60e
DTSTAMP:20260423T151136Z
DESCRIPTION:An opportunity for the Class of 2026 to debrief from the class 
 day and provide networking between the current class and alumni.
DTSTART;TZID=America/Los_Angeles:20260604T163000
DTEND;TZID=America/Los_Angeles:20260604T183000
LOCATION:
SUMMARY:Alumni with Class
END:VEVENT
END:VCALENDAR
