BEGIN:VCALENDAR
VERSION:2.0
PRODID:-//leadershipspokane.org//NONSGML kigkonsult.se iCalcreator 2.30.10/
 /
CALSCALE:GREGORIAN
METHOD:PUBLISH
UID:3610e95a-3253-4476-83c6-9d31c5a672d7
X-WR-CALDESC:This is a private tour for class members of Leadership Spokane
 .\n\nClass of 2026 - please login to your Class Portal to register for thi
 s tour.\n\nAlumni - please call or email the office to check availability 
 to be added to this tour.
X-WR-RELCALID:23d03530c861e64ea5bf8967a0fa6a67
X-WR-TIMEZONE:America/Los_Angeles
BEGIN:VTIMEZONE
TZID:America/Los_Angeles
BEGIN:STANDARD
TZNAME:PST
DTSTART:20251102T020000
TZOFFSETFROM:-0700
TZOFFSETTO:-0800
RDATE:20261101T020000
RDATE:20271107T020000
END:STANDARD
BEGIN:DAYLIGHT
TZNAME:PDT
DTSTART:20260308T020000
TZOFFSETFROM:-0800
TZOFFSETTO:-0700
RDATE:20270314T020000
END:DAYLIGHT
END:VTIMEZONE
BEGIN:VEVENT
UID:fdd2256c-4d17-4bf1-8a9f-b53811fdc5be
DTSTAMP:20260423T135052Z
DESCRIPTION:This is a private tour for class members of Leadership Spokane.
 \n\nClass of 2026 - please login to your Class Portal to register for this
  tour.\n\nAlumni - please call or email the office to check availability t
 o be added to this tour.
DTSTART;TZID=America/Los_Angeles:20260520T060000
DTEND;TZID=America/Los_Angeles:20260520T140000
LOCATION:100 Chennault Ave Ste 100\, Fairchild AFB\, WA 99011 US
SUMMARY:Tour: Fairchild AFB Air Refueling Flight
END:VEVENT
END:VCALENDAR
