BEGIN:VCALENDAR
VERSION:2.0
PRODID:-//leadershipspokane.org//NONSGML kigkonsult.se iCalcreator 2.30.10/
 /
CALSCALE:GREGORIAN
METHOD:PUBLISH
UID:0da0fbdf-eb31-4235-bd86-e6ea9d31f860
X-WR-CALDESC:YLS Class of 2026 Stepping Up Day
X-WR-RELCALID:9de3b566de11727e9a9a42f990fdbc02
X-WR-TIMEZONE:America/Los_Angeles
BEGIN:VTIMEZONE
TZID:America/Los_Angeles
BEGIN:STANDARD
TZNAME:PST
DTSTART:20251102T020000
TZOFFSETFROM:-0700
TZOFFSETTO:-0800
RDATE:20261101T020000
RDATE:20271107T020000
END:STANDARD
BEGIN:DAYLIGHT
TZNAME:PDT
DTSTART:20260308T020000
TZOFFSETFROM:-0800
TZOFFSETTO:-0700
RDATE:20270314T020000
END:DAYLIGHT
END:VTIMEZONE
BEGIN:VEVENT
UID:cb0d7dff-45a3-4d6c-bcc2-a36f9ce994b5
DTSTAMP:20260423T134629Z
DESCRIPTION:YLS Class of 2026 Stepping Up Day
DTSTART;TZID=America/Los_Angeles:20260518T183000
DTEND;TZID=America/Los_Angeles:20260518T204500
LOCATION:
SUMMARY:YLS Stepping Up Day
END:VEVENT
END:VCALENDAR
