BEGIN:VCALENDAR
VERSION:2.0
PRODID:-//leadershipspokane.org//NONSGML kigkonsult.se iCalcreator 2.30.10/
 /
CALSCALE:GREGORIAN
METHOD:PUBLISH
UID:6d79c4c0-a82d-4e7e-b982-ad53bc4159d0
X-WR-CALDESC:Join us on May 14th from 4:00–6:00 PM at the West End Room at 
 Brick West for an inside look at one of Spokane’s most impactful and intri
 guing collaborations.\n\nMore than 30 of Spokane’s top leaders—from across
  sectors and disciplines—have come together to tackle some of our communit
 y’s biggest challenges. Who are they? What are they working on? And how di
 d this powerful initiative begin? Get the answers firsthand in this engagi
 ng and thought-provoking conversation.\n\n· This is a rare opportunity to 
 connect directly with leaders on the frontlines of change\n\n· Open to the
  public—we welcome both alumni and community members\n\n· Enjoy light refr
 eshments while you learn and engage
X-WR-RELCALID:a9a3a5de183df1ca5df2b2a5cb88b424
X-WR-TIMEZONE:America/Los_Angeles
BEGIN:VTIMEZONE
TZID:America/Los_Angeles
BEGIN:STANDARD
TZNAME:PST
DTSTART:20251102T020000
TZOFFSETFROM:-0700
TZOFFSETTO:-0800
RDATE:20261101T020000
RDATE:20271107T020000
END:STANDARD
BEGIN:DAYLIGHT
TZNAME:PDT
DTSTART:20260308T020000
TZOFFSETFROM:-0800
TZOFFSETTO:-0700
RDATE:20270314T020000
END:DAYLIGHT
END:VTIMEZONE
BEGIN:VEVENT
UID:986814d6-f76d-46ea-b78b-dd37ba02fe28
DTSTAMP:20260421T041327Z
DESCRIPTION:Join us on May 14th from 4:00–6:00 PM at the West End Room at B
 rick West for an inside look at one of Spokane’s most impactful and intrig
 uing collaborations.\n\nMore than 30 of Spokane’s top leaders—from across 
 sectors and disciplines—have come together to tackle some of our community
 ’s biggest challenges. Who are they? What are they working on? And how did
  this powerful initiative begin? Get the answers firsthand in this engagin
 g and thought-provoking conversation.\n\n· This is a rare opportunity to c
 onnect directly with leaders on the frontlines of change\n\n· Open to the 
 public—we welcome both alumni and community members\n\n· Enjoy light refre
 shments while you learn and engage
DTSTART;TZID=America/Los_Angeles:20260514T160000
DTEND;TZID=America/Los_Angeles:20260514T180000
LOCATION:1318 W 1st Ave\, Spokane\, WA 99201 US
SUMMARY:Alumni Presents: A conversation with the Spokane Safe & Healthy Tas
 k Force
END:VEVENT
END:VCALENDAR
