BEGIN:VCALENDAR
VERSION:2.0
PRODID:-//leadershipspokane.org//NONSGML kigkonsult.se iCalcreator 2.30.10/
 /
CALSCALE:GREGORIAN
METHOD:PUBLISH
UID:d04c6e51-dbb9-407a-a6a3-721df45d2057
X-WR-CALDESC:This is a private tour for class members of Leadership Spokane
 .\n\nClass of 2026 - please login to your Class Portal to register for thi
 s tour.\n\nAlumni - please call or email the office to check availability 
 to be added to this tour.
X-WR-RELCALID:08fedd93677b617df8571615d4d0a027
X-WR-TIMEZONE:America/Los_Angeles
BEGIN:VTIMEZONE
TZID:America/Los_Angeles
BEGIN:STANDARD
TZNAME:PST
DTSTART:20251102T020000
TZOFFSETFROM:-0700
TZOFFSETTO:-0800
RDATE:20261101T020000
RDATE:20271107T020000
END:STANDARD
BEGIN:DAYLIGHT
TZNAME:PDT
DTSTART:20260308T020000
TZOFFSETFROM:-0800
TZOFFSETTO:-0700
RDATE:20270314T020000
END:DAYLIGHT
END:VTIMEZONE
BEGIN:VEVENT
UID:4301fa1b-9ac0-4883-846e-312a3f68d043
DTSTAMP:20260423T133414Z
DESCRIPTION:This is a private tour for class members of Leadership Spokane.
 \n\nClass of 2026 - please login to your Class Portal to register for this
  tour.\n\nAlumni - please call or email the office to check availability t
 o be added to this tour.
DTSTART;TZID=America/Los_Angeles:20260513T083000
DTEND;TZID=America/Los_Angeles:20260513T170000
LOCATION:1981 LeClerc Rd N\, Cusick\, WA 99119 US
SUMMARY:Tour: Kalispel Tribe Reservation
END:VEVENT
END:VCALENDAR
