BEGIN:VCALENDAR
VERSION:2.0
PRODID:-//leadershipspokane.org//NONSGML kigkonsult.se iCalcreator 2.30.10/
 /
CALSCALE:GREGORIAN
METHOD:PUBLISH
UID:bc3a4fbc-91a6-4912-989c-6a0853de3cb3
X-WR-CALDESC:YLS Class of 2026 Public Safety Day
X-WR-RELCALID:c4cd768f87464ab120c6b0f1a8d65b28
X-WR-TIMEZONE:America/Los_Angeles
BEGIN:VTIMEZONE
TZID:America/Los_Angeles
BEGIN:STANDARD
TZNAME:PST
DTSTART:20251102T020000
TZOFFSETFROM:-0700
TZOFFSETTO:-0800
RDATE:20261101T020000
END:STANDARD
BEGIN:DAYLIGHT
TZNAME:PDT
DTSTART:20260308T020000
TZOFFSETFROM:-0800
TZOFFSETTO:-0700
RDATE:20270314T020000
END:DAYLIGHT
END:VTIMEZONE
BEGIN:VEVENT
UID:a165489e-6fae-47cb-823e-0b558d6615ed
DTSTAMP:20260420T090811Z
DESCRIPTION:YLS Class of 2026 Public Safety Day
DTSTART;TZID=America/Los_Angeles:20260427T183000
DTEND;TZID=America/Los_Angeles:20260427T204500
LOCATION:
SUMMARY:YLS Public Safety Day
END:VEVENT
END:VCALENDAR
