BEGIN:VCALENDAR
VERSION:2.0
PRODID:-//leadershipspokane.org//NONSGML kigkonsult.se iCalcreator 2.30.10/
 /
CALSCALE:GREGORIAN
METHOD:PUBLISH
UID:b7279e62-1fc4-43da-844d-62d9c8c06c04
X-WR-CALDESC:This is a private tour for class members of Leadership Spokane
 .\n\nClass of 2026 - please login to your Class Portal to register for thi
 s tour.\n\nAlumni - please call or email the office to check availability 
 to be added to this tour.
X-WR-RELCALID:7944ce0974b1e9fea70c846fc8e5c118
X-WR-TIMEZONE:America/Los_Angeles
BEGIN:VTIMEZONE
TZID:America/Los_Angeles
BEGIN:STANDARD
TZNAME:PST
DTSTART:20251102T020000
TZOFFSETFROM:-0700
TZOFFSETTO:-0800
RDATE:20261101T020000
END:STANDARD
BEGIN:DAYLIGHT
TZNAME:PDT
DTSTART:20260308T020000
TZOFFSETFROM:-0800
TZOFFSETTO:-0700
RDATE:20270314T020000
END:DAYLIGHT
END:VTIMEZONE
BEGIN:VEVENT
UID:c952d9e6-9ccf-460b-8ac7-a4e743383273
DTSTAMP:20260423T120222Z
DESCRIPTION:This is a private tour for class members of Leadership Spokane.
 \n\nClass of 2026 - please login to your Class Portal to register for this
  tour.\n\nAlumni - please call or email the office to check availability t
 o be added to this tour.
DTSTART;TZID=America/Los_Angeles:20260408T150000
DTEND;TZID=America/Los_Angeles:20260408T163000
LOCATION:3010 1st St.\, Spokane Valley\, WA 99216 US
SUMMARY:Tour: CarbonQuest
END:VEVENT
END:VCALENDAR
