BEGIN:VCALENDAR
VERSION:2.0
PRODID:-//leadershipspokane.org//NONSGML kigkonsult.se iCalcreator 2.30.10/
 /
CALSCALE:GREGORIAN
METHOD:PUBLISH
UID:0b624248-ea8f-49b8-89ec-5e74fe46f227
X-WR-CALDESC:Flagship Class of 2026 Human Needs Day
X-WR-RELCALID:fa68e214f2b67b7879ae23afa278a33f
X-WR-TIMEZONE:America/Los_Angeles
BEGIN:VTIMEZONE
TZID:America/Los_Angeles
BEGIN:STANDARD
TZNAME:PST
DTSTART:20251102T020000
TZOFFSETFROM:-0700
TZOFFSETTO:-0800
RDATE:20261101T020000
END:STANDARD
BEGIN:DAYLIGHT
TZNAME:PDT
DTSTART:20260308T020000
TZOFFSETFROM:-0800
TZOFFSETTO:-0700
RDATE:20270314T020000
END:DAYLIGHT
END:VTIMEZONE
BEGIN:VEVENT
UID:9459c077-3c6f-4a74-9068-61174363330b
DTSTAMP:20260423T115314Z
DESCRIPTION:Flagship Class of 2026 Human Needs Day
DTSTART;TZID=America/Los_Angeles:20260402T073000
DTEND;TZID=America/Los_Angeles:20260402T163000
LOCATION:
SUMMARY:Flagship Human Needs Day
END:VEVENT
END:VCALENDAR
