BEGIN:VCALENDAR
VERSION:2.0
PRODID:-//leadershipspokane.org//NONSGML kigkonsult.se iCalcreator 2.30.10/
 /
CALSCALE:GREGORIAN
METHOD:PUBLISH
UID:2357b1c0-b0e8-4ddc-94d7-3389911accec
X-WR-CALDESC:YLS Class of 2026 Governance Day
X-WR-RELCALID:10937f573350f60aed0c481110241bf4
X-WR-TIMEZONE:America/Los_Angeles
BEGIN:VTIMEZONE
TZID:America/Los_Angeles
BEGIN:STANDARD
TZNAME:PST
DTSTART:20251102T020000
TZOFFSETFROM:-0700
TZOFFSETTO:-0800
RDATE:20261101T020000
END:STANDARD
BEGIN:DAYLIGHT
TZNAME:PDT
DTSTART:20260308T020000
TZOFFSETFROM:-0800
TZOFFSETTO:-0700
RDATE:20270314T020000
END:DAYLIGHT
END:VTIMEZONE
BEGIN:VEVENT
UID:1f01fb35-0e5d-4559-99d7-b0a755302b73
DTSTAMP:20260423T131910Z
DESCRIPTION:YLS Class of 2026 Governance Day
DTSTART;TZID=America/Los_Angeles:20260323T183000
DTEND;TZID=America/Los_Angeles:20260323T204500
LOCATION:
SUMMARY:YLS Governance Day
END:VEVENT
END:VCALENDAR
