BEGIN:VCALENDAR
VERSION:2.0
PRODID:-//leadershipspokane.org//NONSGML kigkonsult.se iCalcreator 2.30.10/
 /
CALSCALE:GREGORIAN
METHOD:PUBLISH
UID:22646e5d-5941-41f4-bed5-b897cbb451a8
X-WR-CALDESC:This is a private tour for class members of Leadership Spokane
 .\n\nClass of 2026 - please login to your Class Portal to register for thi
 s tour.\n\nAlumni - please call or email the office to check availability 
 to be added to this tour.
X-WR-RELCALID:9549d34ee6dfc049d6b102eb6b4716e5
X-WR-TIMEZONE:America/Los_Angeles
BEGIN:VTIMEZONE
TZID:America/Los_Angeles
BEGIN:STANDARD
TZNAME:PST
DTSTART:20251102T020000
TZOFFSETFROM:-0700
TZOFFSETTO:-0800
RDATE:20261101T020000
END:STANDARD
BEGIN:DAYLIGHT
TZNAME:PDT
DTSTART:20260308T020000
TZOFFSETFROM:-0800
TZOFFSETTO:-0700
RDATE:20270314T020000
END:DAYLIGHT
END:VTIMEZONE
BEGIN:VEVENT
UID:50f385fc-d39d-435f-9069-d3b680946708
DTSTAMP:20260423T131726Z
DESCRIPTION:This is a private tour for class members of Leadership Spokane.
 \n\nClass of 2026 - please login to your Class Portal to register for this
  tour.\n\nAlumni - please call or email the office to check availability t
 o be added to this tour.
DTSTART;TZID=America/Los_Angeles:20260317T144500
DTEND;TZID=America/Los_Angeles:20260317T163000
LOCATION:
SUMMARY:Tour: Wagstaff\, Inc.
END:VEVENT
END:VCALENDAR
