BEGIN:VCALENDAR
VERSION:2.0
PRODID:-//leadershipspokane.org//NONSGML kigkonsult.se iCalcreator 2.30.10/
 /
CALSCALE:GREGORIAN
METHOD:PUBLISH
UID:cc22b2df-28e1-40ac-8d32-77de02f2b3ee
X-WR-CALDESC:This is a private tour for class members of Leadership Spokane
 .\n\nClass of 2026 - please login to your Class Portal to register for thi
 s tour.\n\nAlumni - please call or email the office to check availability 
 to be added to this tour.\n
X-WR-RELCALID:33119be2d6cfc8bfe577c44cc3c4af0a
X-WR-TIMEZONE:America/Los_Angeles
BEGIN:VTIMEZONE
TZID:America/Los_Angeles
BEGIN:STANDARD
TZNAME:PST
DTSTART:20251102T020000
TZOFFSETFROM:-0700
TZOFFSETTO:-0800
RDATE:20261101T020000
END:STANDARD
BEGIN:DAYLIGHT
TZNAME:PDT
DTSTART:20260308T020000
TZOFFSETFROM:-0800
TZOFFSETTO:-0700
RDATE:20270314T020000
END:DAYLIGHT
END:VTIMEZONE
BEGIN:VEVENT
UID:70fb6354-e6a4-40c2-9101-7a6d12303652
DTSTAMP:20260423T132419Z
DESCRIPTION:This is a private tour for class members of Leadership Spokane.
 \n\nClass of 2026 - please login to your Class Portal to register for this
  tour.\n\nAlumni - please call or email the office to check availability t
 o be added to this tour.\n
DTSTART;TZID=America/Los_Angeles:20260316T150000
DTEND;TZID=America/Los_Angeles:20260316T170000
LOCATION:9000 W Airport Dr\, Spokane\, WA 99224 US
SUMMARY:Tour: Spokane International Airport
END:VEVENT
END:VCALENDAR
