BEGIN:VCALENDAR
VERSION:2.0
PRODID:-//leadershipspokane.org//NONSGML kigkonsult.se iCalcreator 2.30.10/
 /
CALSCALE:GREGORIAN
METHOD:PUBLISH
UID:0b87707c-1197-4831-91a8-af34beb7359e
X-WR-CALDESC:Erin Smith (Class of 2023)\, Head of the Hagan Foundation Cent
 er for the Humanities at Spokane Community College\, invites you to attend
  a presentation by Kwame Anthony Appiah on March 5th. Kwame\, a philosophe
 r and professor at New York University\, will present Cosmopolitanism: Eth
 ics in a World of Strangers\, with a Q&A session to follow.\n\nTo learn mo
 re about Kwame's bio\, please visit https://thelavinagency.com/speakers/kw
 ame-anthony-appiah/\n\nThis event is open to the community.
X-WR-RELCALID:9a6e31b90b65c68f582fed9e9df1347d
X-WR-TIMEZONE:America/Los_Angeles
BEGIN:VTIMEZONE
TZID:America/Los_Angeles
BEGIN:STANDARD
TZNAME:PST
DTSTART:20251102T020000
TZOFFSETFROM:-0700
TZOFFSETTO:-0800
RDATE:20261101T020000
END:STANDARD
BEGIN:DAYLIGHT
TZNAME:PDT
DTSTART:20250309T020000
TZOFFSETFROM:-0800
TZOFFSETTO:-0700
RDATE:20260308T020000
RDATE:20270314T020000
END:DAYLIGHT
END:VTIMEZONE
BEGIN:VEVENT
UID:66f5cedb-ea76-4410-b1cf-991a844fb59c
DTSTAMP:20260423T132900Z
DESCRIPTION:Erin Smith (Class of 2023)\, Head of the Hagan Foundation Cente
 r for the Humanities at Spokane Community College\, invites you to attend 
 a presentation by Kwame Anthony Appiah on March 5th. Kwame\, a philosopher
  and professor at New York University\, will present Cosmopolitanism: Ethi
 cs in a World of Strangers\, with a Q&A session to follow.\n\nTo learn mor
 e about Kwame's bio\, please visit https://thelavinagency.com/speakers/kwa
 me-anthony-appiah/\n\nThis event is open to the community.
DTSTART;TZID=America/Los_Angeles:20260305T180000
DTEND;TZID=America/Los_Angeles:20260305T200000
LOCATION:Spokane Community College Hagan Foundation Center (Building 16\, 2
 nd Floor)\, 1810 N Greene St\, Spokane\, WA 99217 US
SUMMARY:Tour: Kwame Anthony Appiah Presentation and Q&A Session\, Hosted By
  the Hagan Foundation Center at SCC
END:VEVENT
END:VCALENDAR
