BEGIN:VCALENDAR
VERSION:2.0
PRODID:-//leadershipspokane.org//NONSGML kigkonsult.se iCalcreator 2.30.10/
 /
CALSCALE:GREGORIAN
METHOD:PUBLISH
UID:23495db9-1f72-4098-aca9-9a4976ad9017
X-WR-CALDESC:Flagship Class of 2026 Healthy Community Day
X-WR-RELCALID:dc2346459b14c0d580aa3996897601a8
X-WR-TIMEZONE:America/Los_Angeles
BEGIN:VTIMEZONE
TZID:America/Los_Angeles
BEGIN:STANDARD
TZNAME:PST
DTSTART:20251102T020000
TZOFFSETFROM:-0700
TZOFFSETTO:-0800
RDATE:20261101T020000
END:STANDARD
BEGIN:DAYLIGHT
TZNAME:PDT
DTSTART:20250309T020000
TZOFFSETFROM:-0800
TZOFFSETTO:-0700
RDATE:20260308T020000
RDATE:20270314T020000
END:DAYLIGHT
END:VTIMEZONE
BEGIN:VEVENT
UID:6fe56866-34b3-4ab3-a091-58eb4bfa14c3
DTSTAMP:20260423T131858Z
DESCRIPTION:Flagship Class of 2026 Healthy Community Day
DTSTART;TZID=America/Los_Angeles:20260305T073000
DTEND;TZID=America/Los_Angeles:20260305T163000
LOCATION:
SUMMARY:Flagship Healthy Community Day
END:VEVENT
END:VCALENDAR
