BEGIN:VCALENDAR
VERSION:2.0
PRODID:-//leadershipspokane.org//NONSGML kigkonsult.se iCalcreator 2.30.10/
 /
CALSCALE:GREGORIAN
METHOD:PUBLISH
UID:91d8908b-b4a2-49a8-aa9d-a3487e382443
X-WR-CALDESC:An opportunity for the Class of 2026 to debrief from the class
  day and provide networking between the current class and alumni.
X-WR-RELCALID:10cb85f8570ab271a47bd267c950c252
X-WR-TIMEZONE:America/Los_Angeles
BEGIN:VTIMEZONE
TZID:America/Los_Angeles
BEGIN:STANDARD
TZNAME:PST
DTSTART:20251102T020000
TZOFFSETFROM:-0700
TZOFFSETTO:-0800
RDATE:20261101T020000
END:STANDARD
BEGIN:DAYLIGHT
TZNAME:PDT
DTSTART:20250309T020000
TZOFFSETFROM:-0800
TZOFFSETTO:-0700
RDATE:20260308T020000
RDATE:20270314T020000
END:DAYLIGHT
END:VTIMEZONE
BEGIN:VEVENT
UID:ae3b2052-e4ae-452e-8f1f-3eeb360d01c6
DTSTAMP:20260423T131122Z
DESCRIPTION:An opportunity for the Class of 2026 to debrief from the class 
 day and provide networking between the current class and alumni.
DTSTART;TZID=America/Los_Angeles:20260305T163000
DTEND;TZID=America/Los_Angeles:20260305T183000
LOCATION:4516 S Regal St\, Spokane \, WA 99223 US
SUMMARY:Alumni with Class
END:VEVENT
END:VCALENDAR
