BEGIN:VCALENDAR
VERSION:2.0
PRODID:-//leadershipspokane.org//NONSGML kigkonsult.se iCalcreator 2.30.10/
 /
CALSCALE:GREGORIAN
METHOD:PUBLISH
UID:1fd59733-7656-47cd-aa37-6b0791b271bd
X-WR-CALDESC:This is a private tour for class members of Leadership Spokane
 .\n\nClass of 2026 - please login to your Class Portal to register for thi
 s tour.\n\nAlumni - please call or email the office to check availability 
 to be added to this tour.\n
X-WR-RELCALID:03e01a78d91f7c04e9345a717e5f7e5f
X-WR-TIMEZONE:America/Los_Angeles
BEGIN:VTIMEZONE
TZID:America/Los_Angeles
BEGIN:STANDARD
TZNAME:PST
DTSTART:20251102T020000
TZOFFSETFROM:-0700
TZOFFSETTO:-0800
RDATE:20261101T020000
END:STANDARD
BEGIN:DAYLIGHT
TZNAME:PDT
DTSTART:20250309T020000
TZOFFSETFROM:-0800
TZOFFSETTO:-0700
RDATE:20260308T020000
RDATE:20270314T020000
END:DAYLIGHT
END:VTIMEZONE
BEGIN:VEVENT
UID:e8b1e825-2c7d-4a9b-b4b0-fed3dc80dd4a
DTSTAMP:20260423T151825Z
DESCRIPTION:This is a private tour for class members of Leadership Spokane.
 \n\nClass of 2026 - please login to your Class Portal to register for this
  tour.\n\nAlumni - please call or email the office to check availability t
 o be added to this tour.\n
DTSTART;TZID=America/Los_Angeles:20260227T090000
DTEND;TZID=America/Los_Angeles:20260227T100000
LOCATION:44 E Hawthorne Rd\, Spokane\, WA 99218 US
SUMMARY:Tour: North Spokane County Library
END:VEVENT
END:VCALENDAR
