BEGIN:VCALENDAR
VERSION:2.0
PRODID:-//leadershipspokane.org//NONSGML kigkonsult.se iCalcreator 2.30.10/
 /
CALSCALE:GREGORIAN
METHOD:PUBLISH
UID:e0dac39c-b0df-42de-80d4-12b77715601c
X-WR-CALDESC:YLS Class of 2026 Financial Education Day
X-WR-RELCALID:584519105e63a15be62f2c653066f7d2
X-WR-TIMEZONE:America/Los_Angeles
BEGIN:VTIMEZONE
TZID:America/Los_Angeles
BEGIN:STANDARD
TZNAME:PST
DTSTART:20251102T020000
TZOFFSETFROM:-0700
TZOFFSETTO:-0800
RDATE:20261101T020000
END:STANDARD
BEGIN:DAYLIGHT
TZNAME:PDT
DTSTART:20250309T020000
TZOFFSETFROM:-0800
TZOFFSETTO:-0700
RDATE:20260308T020000
RDATE:20270314T020000
END:DAYLIGHT
END:VTIMEZONE
BEGIN:VEVENT
UID:ed8ccc13-127d-41be-ad73-a7e09f34fe9c
DTSTAMP:20260423T151334Z
DESCRIPTION:YLS Class of 2026 Financial Education Day
DTSTART;TZID=America/Los_Angeles:20260223T183000
DTEND;TZID=America/Los_Angeles:20260223T204500
LOCATION:
SUMMARY:YLS Financial Education Day
END:VEVENT
END:VCALENDAR
