BEGIN:VCALENDAR
VERSION:2.0
PRODID:-//leadershipspokane.org//NONSGML kigkonsult.se iCalcreator 2.30.10/
 /
CALSCALE:GREGORIAN
METHOD:PUBLISH
UID:9e8b8565-6269-4a13-b9be-034eecda7ee7
X-WR-CALDESC:Mark your calendars for an unforgettable evening! Leadership S
 pokane’s signature event\, the Leadership Lights the Way Gala\, returns on
  Saturday\, February 7\, 2026 at Northern Quest Resort & Casino.\n\nExpect
  exciting auctions\, engaging surprises\, and a room full of changemakers\
 , the Gala is our biggest fundraiser of the year. Your attendance directly
  supports our Flagship and Youth Leadership programs that provide opportun
 ities for leaders across all sectors to step up in Spokane\, building the 
 next generation of servant leaders.\n\n-----------------------------------
 --------------------------------------------------------------------------
 --\n\nPurchase Tickets Here: https://leadershipspokane.ejoinme.org/lspokan
 e2026tickets\n
X-WR-RELCALID:b2cc654ff212a6db357b42892ff6e4f0
X-WR-TIMEZONE:America/Los_Angeles
BEGIN:VTIMEZONE
TZID:America/Los_Angeles
BEGIN:STANDARD
TZNAME:PST
DTSTART:20251102T020000
TZOFFSETFROM:-0700
TZOFFSETTO:-0800
RDATE:20261101T020000
END:STANDARD
BEGIN:DAYLIGHT
TZNAME:PDT
DTSTART:20250309T020000
TZOFFSETFROM:-0800
TZOFFSETTO:-0700
RDATE:20260308T020000
RDATE:20270314T020000
END:DAYLIGHT
END:VTIMEZONE
BEGIN:VEVENT
UID:d69a403f-1aad-4916-a5e3-aeb181e5673a
DTSTAMP:20260423T151327Z
DESCRIPTION:Mark your calendars for an unforgettable evening! Leadership Sp
 okane’s signature event\, the Leadership Lights the Way Gala\, returns on 
 Saturday\, February 7\, 2026 at Northern Quest Resort & Casino.\n\nExpect 
 exciting auctions\, engaging surprises\, and a room full of changemakers\,
  the Gala is our biggest fundraiser of the year. Your attendance directly 
 supports our Flagship and Youth Leadership programs that provide opportuni
 ties for leaders across all sectors to step up in Spokane\, building the n
 ext generation of servant leaders.\n\n------------------------------------
 --------------------------------------------------------------------------
 -\n\nPurchase Tickets Here: https://leadershipspokane.ejoinme.org/lspokane
 2026tickets\n
DTSTART;TZID=America/Los_Angeles:20260207T170000
DTEND;TZID=America/Los_Angeles:20260207T220000
LOCATION:100 N Hayford Rd\, Airway Heights\, WA 99001 US
SUMMARY:Leadership Lights the Way Gala
END:VEVENT
END:VCALENDAR
