BEGIN:VCALENDAR
VERSION:2.0
PRODID:-//leadershipspokane.org//NONSGML kigkonsult.se iCalcreator 2.30.10/
 /
CALSCALE:GREGORIAN
METHOD:PUBLISH
UID:c3bac260-6093-4d80-ab42-9ee5cc6a6098
X-WR-CALDESC:Flagship Class of 2026 Neighborhood & History Day
X-WR-RELCALID:7bbbfdc430648025028e075c47576dd4
X-WR-TIMEZONE:America/Los_Angeles
BEGIN:VTIMEZONE
TZID:America/Los_Angeles
BEGIN:STANDARD
TZNAME:PST
DTSTART:20251102T020000
TZOFFSETFROM:-0700
TZOFFSETTO:-0800
RDATE:20261101T020000
END:STANDARD
BEGIN:DAYLIGHT
TZNAME:PDT
DTSTART:20250309T020000
TZOFFSETFROM:-0800
TZOFFSETTO:-0700
RDATE:20260308T020000
RDATE:20270314T020000
END:DAYLIGHT
END:VTIMEZONE
BEGIN:VEVENT
UID:4c9cdf36-bccb-4c79-a4bb-d098df94be8e
DTSTAMP:20260423T150457Z
DESCRIPTION:Flagship Class of 2026 Neighborhood & History Day
DTSTART;TZID=America/Los_Angeles:20260205T073000
DTEND;TZID=America/Los_Angeles:20260205T163000
LOCATION:
SUMMARY:Flagship Neighborhood & History Day
END:VEVENT
END:VCALENDAR
