BEGIN:VCALENDAR
VERSION:2.0
PRODID:-//leadershipspokane.org//NONSGML kigkonsult.se iCalcreator 2.30.10/
 /
CALSCALE:GREGORIAN
METHOD:PUBLISH
UID:8588e69e-b30b-4707-9f06-f2f3d4bfec3e
X-WR-CALDESC:Join us for the Leadership Spokane All Class Reunion on 30 Jul
 y 2024\, 4:30 pm at Brick West Brewing! \n\nIn honor of Leadership Spokane
  being in operation for 42 years\, the first 42 alumni wearing their namet
 ag will receive a swag bag.\n\nBonus! Bring your business card to our All 
 Class Reunion to be entered into a drawing for two tickets to our gala.\n
 \nThank you\, Idaho Central Credit Union and MultiCare\, for sponsoring ou
 r event!
X-WR-RELCALID:aa1332a61b7e2f3efa9be6d744c0bc04
X-WR-TIMEZONE:America/Los_Angeles
BEGIN:VTIMEZONE
TZID:America/Los_Angeles
BEGIN:STANDARD
TZNAME:PST
DTSTART:20231105T020000
TZOFFSETFROM:-0700
TZOFFSETTO:-0800
RDATE:20241103T020000
RDATE:20251102T020000
END:STANDARD
BEGIN:DAYLIGHT
TZNAME:PDT
DTSTART:20240310T020000
TZOFFSETFROM:-0800
TZOFFSETTO:-0700
RDATE:20250309T020000
END:DAYLIGHT
END:VTIMEZONE
BEGIN:VEVENT
UID:5eabae9e-a58b-41ae-971a-a250d59ccce4
DTSTAMP:20260423T121629Z
DESCRIPTION:Join us for the Leadership Spokane All Class Reunion on 30 July
  2024\, 4:30 pm at Brick West Brewing! \n\nIn honor of Leadership Spokane 
 being in operation for 42 years\, the first 42 alumni wearing their nameta
 g will receive a swag bag.\n\nBonus! Bring your business card to our All C
 lass Reunion to be entered into a drawing for two tickets to our gala.\n\n
 Thank you\, Idaho Central Credit Union and MultiCare\, for sponsoring our 
 event!
DTSTART;TZID=America/Los_Angeles:20240730T163000
DTEND;TZID=America/Los_Angeles:20240730T183000
LOCATION:Brickwest Brewing Co.\, 1318 W 1st Ave\, Spokane\, WA 99201 US
SUMMARY:All Class Reunion
END:VEVENT
END:VCALENDAR
