BEGIN:VCALENDAR
VERSION:2.0
PRODID:-//leadershipspokane.org//NONSGML kigkonsult.se iCalcreator 2.30.10/
 /
CALSCALE:GREGORIAN
METHOD:PUBLISH
UID:de5d730c-ab3f-491e-81c4-a082fe35cd30
X-WR-CALDESC:Commencement celebrating the Flagship & YLS classes of 2024
X-WR-RELCALID:b665d0b433f86ff23e842d7045d0855a
X-WR-TIMEZONE:America/Los_Angeles
BEGIN:VTIMEZONE
TZID:America/Los_Angeles
BEGIN:STANDARD
TZNAME:PST
DTSTART:20231105T020000
TZOFFSETFROM:-0700
TZOFFSETTO:-0800
RDATE:20241103T020000
RDATE:20251102T020000
END:STANDARD
BEGIN:DAYLIGHT
TZNAME:PDT
DTSTART:20240310T020000
TZOFFSETFROM:-0800
TZOFFSETTO:-0700
RDATE:20250309T020000
END:DAYLIGHT
END:VTIMEZONE
BEGIN:VEVENT
UID:a28e932c-268a-4602-881a-44054271e37e
DTSTAMP:20260421T232422Z
DESCRIPTION:Commencement celebrating the Flagship & YLS classes of 2024
DTSTART;TZID=America/Los_Angeles:20240613T170000
DTEND;TZID=America/Los_Angeles:20240613T193000
LOCATION:906 W Main Ave\, Spokane\, WA 99201 US
SUMMARY:Flagship & YLS Commencement
END:VEVENT
END:VCALENDAR
